BEGIN:VCALENDAR
VERSION:2.0
PRODID:-//pretalx//pretalx.dgnum.eu//lixcon-2026//speaker//B3D9SZ
BEGIN:VTIMEZONE
TZID:CET
BEGIN:STANDARD
DTSTART:20001029T040000
RRULE:FREQ=YEARLY;BYDAY=-1SU;BYMONTH=10
TZNAME:CET
TZOFFSETFROM:+0200
TZOFFSETTO:+0100
END:STANDARD
BEGIN:DAYLIGHT
DTSTART:20000326T030000
RRULE:FREQ=YEARLY;BYDAY=-1SU;BYMONTH=3
TZNAME:CEST
TZOFFSETFROM:+0100
TZOFFSETTO:+0200
END:DAYLIGHT
END:VTIMEZONE
BEGIN:VEVENT
UID:pretalx-lixcon-2026-A7BNGC@pretalx.dgnum.eu
DTSTART;TZID=CET:20260417T134500
DTEND;TZID=CET:20260417T141500
DESCRIPTION:the ice caps are melting\, ~~meteors are getting crashed into u
 s~~ global warming stops for nothing and no one. the meltwater has to go s
 omewhere. hope you brought a good boat.
DTSTAMP:20260419T190101Z
LOCATION:Amphitheater Dussane
SUMMARY:meltwater rapids - eldritch horrors\, Raito
URL:https://pretalx.dgnum.eu/lixcon-2026/talk/A7BNGC/
END:VEVENT
END:VCALENDAR
