BEGIN:VCALENDAR
VERSION:2.0
PRODID:-//pretalx//pretalx.dgnum.eu//lixcon-2026//talk//38JNUB
BEGIN:VTIMEZONE
TZID:CET
BEGIN:STANDARD
DTSTART:20001029T040000
RRULE:FREQ=YEARLY;BYDAY=-1SU;BYMONTH=10
TZNAME:CET
TZOFFSETFROM:+0200
TZOFFSETTO:+0100
END:STANDARD
BEGIN:DAYLIGHT
DTSTART:20000326T030000
RRULE:FREQ=YEARLY;BYDAY=-1SU;BYMONTH=3
TZNAME:CEST
TZOFFSETFROM:+0100
TZOFFSETTO:+0200
END:DAYLIGHT
END:VTIMEZONE
BEGIN:VEVENT
UID:pretalx-lixcon-2026-38JNUB@pretalx.dgnum.eu
DTSTART;TZID=CET:20260417T100000
DTEND;TZID=CET:20260417T101500
DESCRIPTION:Welcome to LixCon!
DTSTAMP:20260419T155133Z
LOCATION:Amphitheater Dussane
SUMMARY:Introduction to LixCon - Ryan Lahfa ("RaitoBezarius")
URL:https://pretalx.dgnum.eu/lixcon-2026/talk/38JNUB/
END:VEVENT
END:VCALENDAR
