BEGIN:VCALENDAR
VERSION:2.0
PRODID:-//pretalx//pretalx.dgnum.eu//lixcon-2026//talk//7CR3VM
BEGIN:VTIMEZONE
TZID:CET
BEGIN:STANDARD
DTSTART:20001029T040000
RRULE:FREQ=YEARLY;BYDAY=-1SU;BYMONTH=10
TZNAME:CET
TZOFFSETFROM:+0200
TZOFFSETTO:+0100
END:STANDARD
BEGIN:DAYLIGHT
DTSTART:20000326T030000
RRULE:FREQ=YEARLY;BYDAY=-1SU;BYMONTH=3
TZNAME:CEST
TZOFFSETFROM:+0100
TZOFFSETTO:+0200
END:DAYLIGHT
END:VTIMEZONE
BEGIN:VEVENT
UID:pretalx-lixcon-2026-7CR3VM@pretalx.dgnum.eu
DTSTART;TZID=CET:20260418T140000
DTEND;TZID=CET:20260418T150000
DESCRIPTION:General Assembly of the Association Française Nix
DTSTAMP:20260419T202851Z
LOCATION:Amphitheater Dussane
SUMMARY:Afnix GA - 
URL:https://pretalx.dgnum.eu/lixcon-2026/talk/7CR3VM/
END:VEVENT
END:VCALENDAR
