BEGIN:VCALENDAR
VERSION:2.0
PRODID:-//pretalx//pretalx.dgnum.eu//lixcon-2026//talk//EW3JLJ
BEGIN:VTIMEZONE
TZID:CET
BEGIN:STANDARD
DTSTART:20001029T040000
RRULE:FREQ=YEARLY;BYDAY=-1SU;BYMONTH=10
TZNAME:CET
TZOFFSETFROM:+0200
TZOFFSETTO:+0100
END:STANDARD
BEGIN:DAYLIGHT
DTSTART:20000326T030000
RRULE:FREQ=YEARLY;BYDAY=-1SU;BYMONTH=3
TZNAME:CEST
TZOFFSETFROM:+0100
TZOFFSETTO:+0200
END:DAYLIGHT
END:VTIMEZONE
BEGIN:VEVENT
UID:pretalx-lixcon-2026-EW3JLJ@pretalx.dgnum.eu
DTSTART;TZID=CET:20260417T143000
DTEND;TZID=CET:20260417T150000
DESCRIPTION:Let's talk about the current state of the Nix language and eval
 uator\, and where things are headed. Nix lang2 (https://wiki.lix.systems/b
 ooks/development/page/nix-lang-v2)\, language versioning (https://github.c
 om/NixOS/rfcs/pull/137)\, bytecode\, Rust and more.\n\nThis will be more l
 ike a semi-structured infodump with some Q&A than a proper talk. Slides ar
 e unlikely to be prepared for this. No public recordings\, but the plan is
  to take the transcript and compile it down into a blog post or something.
DTSTAMP:20260419T202917Z
LOCATION:Salle des Actes
SUMMARY:Updates from Lix' Nix-lang land - piegames
URL:https://pretalx.dgnum.eu/lixcon-2026/talk/EW3JLJ/
END:VEVENT
END:VCALENDAR
