BEGIN:VCALENDAR
VERSION:2.0
PRODID:-//pretalx//pretalx.dgnum.eu//lixcon-2026//talk//F83VYV
BEGIN:VTIMEZONE
TZID:CET
BEGIN:STANDARD
DTSTART:20001029T040000
RRULE:FREQ=YEARLY;BYDAY=-1SU;BYMONTH=10
TZNAME:CET
TZOFFSETFROM:+0200
TZOFFSETTO:+0100
END:STANDARD
BEGIN:DAYLIGHT
DTSTART:20000326T030000
RRULE:FREQ=YEARLY;BYDAY=-1SU;BYMONTH=3
TZNAME:CEST
TZOFFSETFROM:+0100
TZOFFSETTO:+0200
END:DAYLIGHT
END:VTIMEZONE
BEGIN:VEVENT
UID:pretalx-lixcon-2026-F83VYV@pretalx.dgnum.eu
DTSTART;TZID=CET:20260417T114500
DTEND;TZID=CET:20260417T121500
DESCRIPTION:The Nix expression language is challenging to evaluate due to n
 on-strict semantics\, dynamic scoping\, a diverse collection of builtin op
 erators\, and tight integration with the Nix store. We give a progress rep
 ort on Regiux\, an interpreter for Nix which is narrowly focused on effici
 ent evaluation of expressions.
DTSTAMP:20260419T183852Z
LOCATION:Amphitheater Dussane
SUMMARY:Regiux: prototyping a fast Nix interpreter - Corbin
URL:https://pretalx.dgnum.eu/lixcon-2026/talk/F83VYV/
END:VEVENT
END:VCALENDAR
