BEGIN:VCALENDAR
VERSION:2.0
PRODID:-//pretalx//pretalx.dgnum.eu//lixcon-2026//talk//HVZTB9
BEGIN:VTIMEZONE
TZID:CET
BEGIN:STANDARD
DTSTART:20001029T040000
RRULE:FREQ=YEARLY;BYDAY=-1SU;BYMONTH=10
TZNAME:CET
TZOFFSETFROM:+0200
TZOFFSETTO:+0100
END:STANDARD
BEGIN:DAYLIGHT
DTSTART:20000326T030000
RRULE:FREQ=YEARLY;BYDAY=-1SU;BYMONTH=3
TZNAME:CEST
TZOFFSETFROM:+0100
TZOFFSETTO:+0200
END:DAYLIGHT
END:VTIMEZONE
BEGIN:VEVENT
UID:pretalx-lixcon-2026-HVZTB9@pretalx.dgnum.eu
DTSTART;TZID=CET:20260417T111500
DTEND;TZID=CET:20260417T114500
DESCRIPTION:This talk is about Elpe\, a mixture of ideas from Nix\, Docker 
 and Ubuntu/Debian/RHEL\, with a strong focus on performance and security.\
 n\nI'll talk about the design choices I've made\, and demo the thing and a
 bout how choices that may seem purely technical can have extreme political
  consequences. I'll also explain how such choices can have deep and lastin
 g consequences on the dynamics of growing organisations.
DTSTAMP:20260419T184013Z
LOCATION:Amphitheater Dussane
SUMMARY:The politics of language design - Pierre-Étienne Meunier
URL:https://pretalx.dgnum.eu/lixcon-2026/talk/HVZTB9/
END:VEVENT
END:VCALENDAR
