BEGIN:VCALENDAR
VERSION:2.0
PRODID:-//pretalx//pretalx.dgnum.eu//lixcon-2026//talk//PEDV9S
BEGIN:VTIMEZONE
TZID:CET
BEGIN:STANDARD
DTSTART:20001029T040000
RRULE:FREQ=YEARLY;BYDAY=-1SU;BYMONTH=10
TZNAME:CET
TZOFFSETFROM:+0200
TZOFFSETTO:+0100
END:STANDARD
BEGIN:DAYLIGHT
DTSTART:20000326T030000
RRULE:FREQ=YEARLY;BYDAY=-1SU;BYMONTH=3
TZNAME:CEST
TZOFFSETFROM:+0100
TZOFFSETTO:+0200
END:DAYLIGHT
END:VTIMEZONE
BEGIN:VEVENT
UID:pretalx-lixcon-2026-PEDV9S@pretalx.dgnum.eu
DTSTART;TZID=CET:20260417T104500
DTEND;TZID=CET:20260417T111500
DESCRIPTION:Lix plugins — a feature so esoteric none yet remember their e
 xistence. What power could they hold? What secrets could they unlock? Let'
 s discover together!
DTSTAMP:20260419T183853Z
LOCATION:Amphitheater Dussane
SUMMARY:The untapped potential of Lix plugins - Qyriad
URL:https://pretalx.dgnum.eu/lixcon-2026/talk/PEDV9S/
END:VEVENT
END:VCALENDAR
