BEGIN:VCALENDAR
VERSION:2.0
PRODID:-//pretalx//pretalx.dgnum.eu//lixcon-2026//talk//QFSZRU
BEGIN:VTIMEZONE
TZID:CET
BEGIN:STANDARD
DTSTART:20001029T040000
RRULE:FREQ=YEARLY;BYDAY=-1SU;BYMONTH=10
TZNAME:CET
TZOFFSETFROM:+0200
TZOFFSETTO:+0100
END:STANDARD
BEGIN:DAYLIGHT
DTSTART:20000326T030000
RRULE:FREQ=YEARLY;BYDAY=-1SU;BYMONTH=3
TZNAME:CEST
TZOFFSETFROM:+0100
TZOFFSETTO:+0200
END:DAYLIGHT
END:VTIMEZONE
BEGIN:VEVENT
UID:pretalx-lixcon-2026-QFSZRU@pretalx.dgnum.eu
DTSTART;TZID=CET:20260417T152000
DTEND;TZID=CET:20260417T155000
DESCRIPTION:It's been a while since I last talked about Zilch\; and now wit
 h Lix's existence\, it's time to take another look\; what's the status of 
 this mysterious project\, and what lessons can we learn from it?
DTSTAMP:20260419T183853Z
LOCATION:Amphitheater Dussane
SUMMARY:Using Nix without the Nix: a Retrospective on Zilch - Puck
URL:https://pretalx.dgnum.eu/lixcon-2026/talk/QFSZRU/
END:VEVENT
END:VCALENDAR
