BEGIN:VCALENDAR
VERSION:2.0
PRODID:-//pretalx//pretalx.dgnum.eu//lixcon-2026//talk//YZZKYT
BEGIN:VTIMEZONE
TZID:CET
BEGIN:STANDARD
DTSTART:20001029T040000
RRULE:FREQ=YEARLY;BYDAY=-1SU;BYMONTH=10
TZNAME:CET
TZOFFSETFROM:+0200
TZOFFSETTO:+0100
END:STANDARD
BEGIN:DAYLIGHT
DTSTART:20000326T030000
RRULE:FREQ=YEARLY;BYDAY=-1SU;BYMONTH=3
TZNAME:CEST
TZOFFSETFROM:+0100
TZOFFSETTO:+0200
END:DAYLIGHT
END:VTIMEZONE
BEGIN:VEVENT
UID:pretalx-lixcon-2026-YZZKYT@pretalx.dgnum.eu
DTSTART;TZID=CET:20260417T101500
DTEND;TZID=CET:20260417T103000
DESCRIPTION:Botanix is a new CI software that targets a native nix integrat
 ion as it builds derivations as its pipeline. It integrates natively with 
 both Gerrit and Forgejo currently but its genericity allows for even more 
 diversity in the future!\n\nThis talk will present the genesis of the Bota
 nix project\, worked on by students from ENS de Lyon\, its philosophy and 
 inner workings.
DTSTAMP:20260419T184013Z
LOCATION:Amphitheater Dussane
SUMMARY:Botanix: A Nix native CI in a forge-agnostic world - Tom Hubrecht
URL:https://pretalx.dgnum.eu/lixcon-2026/talk/YZZKYT/
END:VEVENT
END:VCALENDAR
